BEGIN:VCALENDAR
PRODID:-//OntarioParks//EN
VERSION:2.0
CALSCALE:GREGORIAN
METHOD:PUBLISH
BEGIN:VEVENT
UID:event-22923@ontarioparks.ca
DTSTAMP:20260423T211006Z
DTSTART:20260717T120000Z
DTEND:20260718T020000Z
SUMMARY:Santé des parcs\, santé des populations
DESCRIPTION:Pour célébrer le mouvement Santé des parcs\, santé des populations nous offrons l’accès diurne gratuit au parc Bonnechere. Consultez notre page Facebook et notre compte Instagram pour obtenir davantage de détails au fur et à mesure qu’ils sont disponibles.
LOCATION:Bonnechere
END:VEVENT
END:VCALENDAR
