BEGIN:VCALENDAR
PRODID:-//OntarioParks//EN
VERSION:2.0
CALSCALE:GREGORIAN
METHOD:PUBLISH
BEGIN:VEVENT
UID:event-22922@ontarioparks.ca
DTSTAMP:20260423T211005Z
DTSTART:20260512T140000Z
DTEND:20260512T170000Z
SUMMARY:Journée provinciale d’action contre les détritus
DESCRIPTION:Vous souhaitez faire du bénévolat et redonner à la communauté? Aidez-nous à préserver la beauté et la propreté du parc en participant à une journée de nettoyage des détritus. Portez des chaussures et des vêtements adaptés à la météo. Nous fournirons aux participants des gants et des pinces. Un barbecue sera organisé pour les bénévoles après l’activité. Des questions? Contactez erica.lamont@ontario.ca pour de plus amples renseignements.
LOCATION:Bonnechere
END:VEVENT
END:VCALENDAR
