BEGIN:VCALENDAR
PRODID:-//OntarioParks//EN
VERSION:2.0
CALSCALE:GREGORIAN
METHOD:PUBLISH
BEGIN:VEVENT
UID:event-22921@ontarioparks.ca
DTSTAMP:20260423T210948Z
DTSTART:20260711T150000Z
DTEND:20260712T000000Z
SUMMARY:Journées de l’archéologie
DESCRIPTION:Organisées par la section d’Ottawa de la Société Ontarienne d'archéologie et les Amis du parc Bonnechere. Joignez-vous aux archéologues pour faire revivre le passé grâce à des activités pratiques et des démonstrations.
LOCATION:Bonnechere
END:VEVENT
END:VCALENDAR
