BEGIN:VCALENDAR
PRODID:-//OntarioParks//EN
VERSION:2.0
CALSCALE:GREGORIAN
METHOD:PUBLISH
BEGIN:VEVENT
UID:event-22920@ontarioparks.ca
DTSTAMP:20260423T210926Z
DTSTART:20260701T040100Z
DTEND:20260702T010000Z
SUMMARY:Fête du Canada
DESCRIPTION:Venez célébrer la fête du Canada avec nous! Des activités et des divertissements pour tous les âges seront proposés. N’oubliez pas de vous habiller en rouge et blanc et préparez-vous à afficher votre fierté canadienne lors de notre concours de décoration des emplacements de camping! Restez à l’affût pour plus de détails.
LOCATION:Bonnechere
END:VEVENT
END:VCALENDAR
