BEGIN:VCALENDAR
PRODID:-//OntarioParks//EN
VERSION:2.0
CALSCALE:GREGORIAN
METHOD:PUBLISH
BEGIN:VEVENT
UID:event-22919@ontarioparks.ca
DTSTAMP:20260423T210840Z
DTSTART:20260704T150000Z
DTEND:20260704T190000Z
SUMMARY:La fête à la plage
DESCRIPTION:Préparez-vous pour une fête estivale au parc Bonnechere! Venez passer une journée sous le soleil\, avec des jeux\, de la nourriture\, de la musique et du divertissement. Consultez notre page Facebook et notre compte Instagram pour obtenir davantage de détails au fur et à mesure qu’ils sont disponibles.
LOCATION:Bonnechere
END:VEVENT
END:VCALENDAR
