BEGIN:VCALENDAR
PRODID:-//OntarioParks//EN
VERSION:2.0
CALSCALE:GREGORIAN
METHOD:PUBLISH
BEGIN:VEVENT
UID:event-22918@ontarioparks.ca
DTSTAMP:20260423T211143Z
DTSTART:20260808T230000Z
DTEND:20260809T010000Z
SUMMARY:La nuit des esprits
DESCRIPTION:Une fois par an\, l’écho du passé anime la forêt. À la tombée de la nuit\, joignez-vous à nous pour remonter le temps et rencontrer les esprits de ceux qui ont vécu\, travaillé et foulé ces terres bien avant nous. Notre talentueux personnel du parc fera revivre l’histoire à travers des sketchs et des récits qui rendent hommage au patrimoine riche de cette région.
LOCATION:Bonnechere
END:VEVENT
END:VCALENDAR
