BEGIN:VCALENDAR
PRODID:-//OntarioParks//EN
VERSION:2.0
CALSCALE:GREGORIAN
METHOD:PUBLISH
BEGIN:VEVENT
UID:event-22880@ontarioparks.ca
DTSTAMP:20260423T210641Z
DTSTART:20260829T150000Z
DTEND:20260829T170000Z
SUMMARY:Montez à bord de camions
DESCRIPTION:Préparez-vous à vivre une journée remplie d’excitation et d’expériences interactives amusantes!  Ne manquez pas notre événement « Touch-a-Truck »\, un événement familial où les jeunes (et les moins jeunes!) peuvent découvrir de près une grande variété de véhicules des services d’urgence.  C’est l’occasion de monter à l’intérieur de ces véhicules et de rencontrer les héros qui les conduisent. Parfait pour les esprits curieux et aventureux.  \nUn permis valide est requis pour entrer dans le parc.
LOCATION:Bonnechere
END:VEVENT
END:VCALENDAR
