BEGIN:VCALENDAR
PRODID:-//OntarioParks//EN
VERSION:2.0
CALSCALE:GREGORIAN
METHOD:PUBLISH
BEGIN:VEVENT
UID:event-22647@ontarioparks.ca
DTSTAMP:20260423T210948Z
DTSTART:20260821T230000Z
DTEND:20260822T000000Z
SUMMARY:Passionnés d’histoire
DESCRIPTION:Remontez le temps avec Pam et Ken. Vêtus de costumes d’époque\, ils vous feront rire\, applaudir et chanter en chœur des chansons sur le thème de l’histoire.
LOCATION:Bonnechere
END:VEVENT
END:VCALENDAR
