BEGIN:VCALENDAR
PRODID:-//OntarioParks//EN
VERSION:2.0
CALSCALE:GREGORIAN
METHOD:PUBLISH
BEGIN:VEVENT
UID:event-22646@ontarioparks.ca
DTSTAMP:20260423T211005Z
DTSTART:20260822T233000Z
DTEND:20260823T003000Z
SUMMARY:Michael Runtz et une soirée avec les loups
DESCRIPTION:Michael a passé plus d’un demi-siècle à observer les loups dans le parc Algonquin. Joignez-vous à Michael et à son épouse Britta pour explorer le monde des loups à travers leur présentation riche. Rendez-vous ensuite à la plage pour participer à une démonstration de hurlement de loups.
LOCATION:Bonnechere
END:VEVENT
END:VCALENDAR
