BEGIN:VCALENDAR
PRODID:-//OntarioParks//EN
VERSION:2.0
CALSCALE:GREGORIAN
METHOD:PUBLISH
BEGIN:VEVENT
UID:event-22645@ontarioparks.ca
DTSTAMP:20260423T211106Z
DTSTART:20260801T230000Z
DTEND:20260802T000000Z
SUMMARY:Musique Apple Cider
DESCRIPTION:Mark et son groupe de musiciens locaux sont de retour au parc Bonnechere pour une soirée consacrée à la musique traditionnelle mettant en vedette le violon emblématique de la vallée de l’Outaouais. Venez écouter des classiques canadiens comme Maple Sugar et d’autres gigues.
LOCATION:Bonnechere
END:VEVENT
END:VCALENDAR
