BEGIN:VCALENDAR
PRODID:-//OntarioParks//EN
VERSION:2.0
CALSCALE:GREGORIAN
METHOD:PUBLISH
BEGIN:VEVENT
UID:event-22644@ontarioparks.ca
DTSTAMP:20260423T211142Z
DTSTART:20260626T230000Z
DTEND:20260627T000000Z
SUMMARY:Pete Moss – Chansons pour enfants sur le thème de la nature
DESCRIPTION:Rapprochez-vous de la nature à travers la chanson\, les contes et le mouvement avec le musicien et conteur Pete Moss. Les familles participeront activement à des chansons et des histoires sur les plantes\, les oiseaux\, la faune et la météo de l’Ontario.
LOCATION:Bonnechere
END:VEVENT
END:VCALENDAR
