BEGIN:VCALENDAR
PRODID:-//OntarioParks//EN
VERSION:2.0
CALSCALE:GREGORIAN
METHOD:PUBLISH
BEGIN:VEVENT
UID:event-22643@ontarioparks.ca
DTSTAMP:20260423T210726Z
DTSTART:20260718T230000Z
DTEND:20260721T000000Z
SUMMARY:Chansons du parc avec David Archibald
DESCRIPTION:Participez à cette joyeuse escapade musicale interactive pour tout apprendre sur la tortue musquée\, les bandits\, les pirates\, en passant par l’herbe à poux!
LOCATION:Bonnechere
END:VEVENT
END:VCALENDAR
