BEGIN:VCALENDAR
PRODID:-//OntarioParks//EN
VERSION:2.0
CALSCALE:GREGORIAN
METHOD:PUBLISH
BEGIN:VEVENT
UID:event-22642@ontarioparks.ca
DTSTAMP:20260423T210803Z
DTSTART:20260725T230000Z
DTEND:20260726T003000Z
SUMMARY:Musique de Marc Audet
DESCRIPTION:Marc Audet est un chanteur-compositeur local de musique traditionnelle spécialisé dans la composition de chansons historiques. Venez passer une soirée sous les pins au son de musique traditionnelle!
LOCATION:Bonnechere
END:VEVENT
END:VCALENDAR
