BEGIN:VCALENDAR
PRODID:-//OntarioParks//EN
VERSION:2.0
CALSCALE:GREGORIAN
METHOD:PUBLISH
BEGIN:VEVENT
UID:event-21068@ontarioparks.ca
DTSTAMP:20260420T174355Z
DTSTART:20260523T010000Z
DTEND:20260523T020000Z
SUMMARY:Activité du soir : Ronde des hiboux @ Centre des visiteurs
DESCRIPTION:Joignez-vous à Edward pour découvrir les étonnantes adaptations qui font des hiboux les maîtres du ciel nocturne! Après une courte discussion autour du feu de camp\, une randonnée nocturne aura lieu pour vous permettre d’observer des hiboux au parc Rondeau!
LOCATION:Rondeau
END:VEVENT
END:VCALENDAR
