BEGIN:VCALENDAR
PRODID:-//OntarioParks//EN
VERSION:2.0
CALSCALE:GREGORIAN
METHOD:PUBLISH
BEGIN:VEVENT
UID:event-19490@ontarioparks.ca
DTSTAMP:20260420T174546Z
DTSTART:20260530T140000Z
DTEND:20260530T160000Z
SUMMARY:Rencontrez le naturaliste : Disséquer une pelote de réjection d’un hibou – Centre d’accueil
DESCRIPTION:Découvrez la vie fascinante des hiboux en disséquant votre propre pelote de réjection! Découvrez qui a élu domicile dans le parc!
LOCATION:Rondeau
END:VEVENT
END:VCALENDAR
