BEGIN:VCALENDAR
PRODID:-//OntarioParks//EN
VERSION:2.0
CALSCALE:GREGORIAN
METHOD:PUBLISH
BEGIN:VEVENT
UID:event-19488@ontarioparks.ca
DTSTAMP:20260420T174301Z
DTSTART:20260502T143000Z
DTEND:20260502T153000Z
SUMMARY:Randonnée ornithologique pour débutants sur le sentier Tulip Tree
DESCRIPTION:Vous êtes novice en matière d’observation des oiseaux et vous voulez en savoir plus sur ce loisir populaire? Joignez-vous à Edward pour une randonnée qui vous permettra d’apprendre tout ce que vous avez besoin de savoir!
LOCATION:Rondeau
END:VEVENT
END:VCALENDAR
