BEGIN:VCALENDAR
PRODID:-//OntarioParks//EN
VERSION:2.0
CALSCALE:GREGORIAN
METHOD:PUBLISH
BEGIN:VEVENT
UID:event-19487@ontarioparks.ca
DTSTAMP:20260420T174107Z
DTSTART:20260517T170000Z
DTEND:20260517T173000Z
SUMMARY:Nourrir les animaux – au Centre d’accueil
DESCRIPTION:Venez rencontrer nos animaux ambassadeurs et découvrez comment vous pouvez contribuer à la protection de ces espèces en danger!
LOCATION:Rondeau
END:VEVENT
END:VCALENDAR
