BEGIN:VCALENDAR
PRODID:-//OntarioParks//EN
VERSION:2.0
CALSCALE:GREGORIAN
METHOD:PUBLISH
BEGIN:VEVENT
UID:event-19486@ontarioparks.ca
DTSTAMP:20260420T174113Z
DTSTART:20260509T173000Z
DTEND:20260509T183000Z
SUMMARY:Trésors éphémères du printemps sur le sentier Spicebush
DESCRIPTION:Venez explorer la beauté éphémère du sentier Spicebush avant que ces fleurs délicates ne disparaissent à nouveau.
LOCATION:Rondeau
END:VEVENT
END:VCALENDAR
