BEGIN:VCALENDAR
PRODID:-//OntarioParks//EN
VERSION:2.0
CALSCALE:GREGORIAN
METHOD:PUBLISH
BEGIN:VEVENT
UID:event-19485@ontarioparks.ca
DTSTAMP:20260420T174249Z
DTSTART:20260523T140000Z
DTEND:20260523T160000Z
SUMMARY:Peintures à faisceau Beam au Centre d’accueil
DESCRIPTION:Créez vos propres cartes de vœux Rondeau en utilisant les peintures à l’aquarelle Beam.
LOCATION:Rondeau
END:VEVENT
END:VCALENDAR
