BEGIN:VCALENDAR
PRODID:-//OntarioParks//EN
VERSION:2.0
CALSCALE:GREGORIAN
METHOD:PUBLISH
BEGIN:VEVENT
UID:event-19461@ontarioparks.ca
DTSTAMP:20260420T174425Z
DTSTART:20260503T170000Z
DTEND:20260503T173000Z
SUMMARY:Nourrir les animaux - au Centre d’accueil
DESCRIPTION:Venez rencontrer nos animaux ambassadeurs et découvrez comment vous pouvez aider à protéger ces espèces en péril!
LOCATION:Rondeau
END:VEVENT
END:VCALENDAR
