BEGIN:VCALENDAR
PRODID:-//OntarioParks//EN
VERSION:2.0
CALSCALE:GREGORIAN
METHOD:PUBLISH
BEGIN:VEVENT
UID:event-10522@ontarioparks.ca
DTSTAMP:20260420T174107Z
DTSTART:20260510T140000Z
DTEND:20260510T190000Z
SUMMARY:Vente de plantes indigènes
DESCRIPTION:Visitez le centre d’accueil entre 10 h et 15 h et faites de votre jardin un habitat rempli de plantes indigènes. Apportez une photo de votre espace à planter et obtenez les conseils de jardinage d’un expert!
LOCATION:Rondeau
END:VEVENT
END:VCALENDAR
