BEGIN:VCALENDAR
PRODID:-//OntarioParks//EN
VERSION:2.0
CALSCALE:GREGORIAN
METHOD:PUBLISH
BEGIN:VEVENT
UID:event-10410@ontarioparks.ca
DTSTAMP:20260424T064352Z
DTSTART:20260728T223000Z
DTEND:20260728T233000Z
SUMMARY:Yoga In the Park with Stacey
DESCRIPTION:Offered at no additional fee to park visitors. (after park entry).\nAll levels welcome for this weekly yoga practice. \nPlease bring a mat or towel and some water. \nDress in comfortable clothing.\n\nParticipants must obtain and display a valid park permit.\n\n**any cancellations or changes will be announced via Stacey's Instagram account @karmabhaktiyoga  (stories)\n\nYoga\, like any physical activity\, involves risks and individual's results may vary. By participating in this yoga class\, you acknowledge that you are participating at your own risk and release myself\, Bronte Creek Provincial Park and Ontario Parks from any and all liabilities arising from your participation.\nMore info: https://www.instagram.com/karmabhaktiyoga/
LOCATION:Bronte Creek
URL;VALUE=URI:https://www.instagram.com/karmabhaktiyoga/
END:VEVENT
END:VCALENDAR
